BEGIN:VCALENDAR
VERSION:2.0
PRODID:-//Soussewetter.de - ECPv6.15.20//NONSGML v1.0//EN
CALSCALE:GREGORIAN
METHOD:PUBLISH
X-WR-CALNAME:Soussewetter.de
X-ORIGINAL-URL:https://soussewetter.de/meteo
X-WR-CALDESC:Veranstaltungen für Soussewetter.de
REFRESH-INTERVAL;VALUE=DURATION:PT1H
X-Robots-Tag:noindex
X-PUBLISHED-TTL:PT1H
BEGIN:VTIMEZONE
TZID:Africa/Tunis
BEGIN:STANDARD
TZOFFSETFROM:+0100
TZOFFSETTO:+0100
TZNAME:CET
DTSTART:20240101T000000
END:STANDARD
END:VTIMEZONE
BEGIN:VEVENT
DTSTART;TZID=Africa/Tunis:20250314T072600
DTEND;TZID=Africa/Tunis:20250314T083100
DTSTAMP:20260421T235036
CREATED:20250309T141323Z
LAST-MODIFIED:20250309T141323Z
UID:6938-1741937160-1741941060@soussewetter.de
SUMMARY:Totale Mondfinsternis vom 14 März 2025
DESCRIPTION:Am 14. März 2025 wird eine totale Mondfinsternis stattfinden\, die zwar in mehreren Regionen der Welt zu sehen sein wird\, in Tunesien allerdings nur in den frühen Morgenstunden in ihrer ersten Hälfte beobachtet werden kann. Dieses astronomische Spektakel\, bei dem der Mond in den Schatten der Erde getaucht wird\, fällt mit dem Ende der ersten Hälfte des heiligen Monats Ramadan 1446 zusammen. \nSichtbarkeit\nDie totale Phase wird am 14 März 2025 vor allem in Südamerika\, im Atlantischen Ozean und in Teilen Afrikas zu sehen sein. In Europa\, Nordafrika und dem Nahen Osten werden hingegen nur die ersten Phasen vor Monduntergang zu sehen sein. \nIn Tunesien wird die Mondfinsternis nur in den ersten Phasen vor Monduntergang zu sehen sein. Obwohl die Totalität nicht sichtbar sein wird\, können  die ersten Phasen in der Morgendämmerung beobachtet werden: \n\nSchauen Sie vor Sonnenaufgang nach Westen\, um den Eintritt des Mondes in den Erdschatten zu sehen;\nVerwenden Sie ein Fernglas oder ein Teleskop\, um die allmählichen Farbveränderungen besser erkennen zu können;\n\nVerfolgen Sie Live-Übertragungen aus Ländern\, in denen die Sonnenfinsternis vollständig zu sehen ist. \nEine Mondfinsternis tritt ein\, wenn sich der Mond in Bezug auf die Erde auf der gegenüberliegenden Seite der Sonne befindet. Zu diesem Zeitpunkt wirft die Erde einen Schatten auf den Mond\, sodass die Sonnenstrahlen nicht mehr auf den Mond treffen können. Der Mond wird dann nur von der indirekten Sonnenstrahlung beleuchtet und färbt sich orange und kupferfarben oder sogar bläulich. \nTitelbild: Symbolfoto
URL:https://soussewetter.de/meteo/veranstaltung/totale-mondfinsternis-vom-14-maerz-2025/
LOCATION:Tunesien landesweit\, Tunesien
CATEGORIES:Mond
ATTACH;FMTTYPE=image/jpeg:https://soussewetter.de/meteo/wp-content/uploads/2018/07/blutmond_800-1.jpg
END:VEVENT
END:VCALENDAR