BEGIN:VCALENDAR
VERSION:2.0
PRODID:-//Soussewetter.de - ECPv6.15.20//NONSGML v1.0//EN
CALSCALE:GREGORIAN
METHOD:PUBLISH
X-WR-CALNAME:Soussewetter.de
X-ORIGINAL-URL:https://soussewetter.de/meteo
X-WR-CALDESC:Veranstaltungen für Soussewetter.de
REFRESH-INTERVAL;VALUE=DURATION:PT1H
X-Robots-Tag:noindex
X-PUBLISHED-TTL:PT1H
BEGIN:VTIMEZONE
TZID:Africa/Tunis
BEGIN:STANDARD
TZOFFSETFROM:+0100
TZOFFSETTO:+0100
TZNAME:CET
DTSTART:20260101T000000
END:STANDARD
END:VTIMEZONE
BEGIN:VEVENT
DTSTART;TZID=Africa/Tunis:20270802T094700
DTEND;TZID=Africa/Tunis:20270802T114500
DTSTAMP:20260419T165422
CREATED:20250727T203349Z
LAST-MODIFIED:20250802T163643Z
UID:7317-1817200020-1817207100@soussewetter.de
SUMMARY:Totale Sonnenfinsternis am 2. August 2027
DESCRIPTION:Die totale Sonnenfinsternis vom 2. August 2027 spielt sich größtenteils über Nordafrika\, der Arabischen Halbinsel\, dem nördlichen Atlantik und dem Indischen Ozean ab. Für Tunesien ist diese Sonnenfinsternis die erste von drei totalen Sonnenfinsternissen im 21. Jahrhundert. Es ist die längste Sonnenfinsternis des 21. Jahrhundert mit einer Dauer von 5:40 Minuten in Sfax und 4:33 Minuten auf Djerba an beiden Orten um 10:12 Uhr (09:12 Uhr UTC). \nFür die Beobachtung der Finsternis ist günstig\, dass sich das Maximum der Finsternis ereignet\, während der Kernschatten den Süden von Ägypten überstreicht\, da die dortigen Klimaverhältnisse beste Bedingungen erwarten lassen. Das Maximum der Finsternis ist in der Nähe von Luxor zu beobachten. Die Dauer der totalen Phase liegt dort bei 6 Minuten und 23 Sekunden. Sie ist damit die längste Sonnenfinsternis des 21. Jahrhunderts\, deren Maximum auf dem Festland liegt. \nDie Sonnenfinsternis vom 2. August 2027 gehört zum Saros-Zyklus 136 und ist die Nachfolgerin der längsten Finsternis des 21. Jahrhunderts vom 22. Juli 2009. Auch die Sonnenfinsternis am 3. September 2081\, die nächste Finsternis\, bei der der Kernschatten des Mondes Deutschland\, Österreich und die Schweiz überstreicht\, gehört zu diesem Zyklus. \nFür Spanien\, dessen Südküste vom Kernschatten gestreift wird\, ist dies die zweite totale Sonnenfinsternis (nach der Sonnenfinsternis vom 12. August 2026) innerhalb eines Jahres\, und innerhalb von weiteren sechs Monaten folgt noch eine weitere\, ringförmige Sonnenfinsternis vom 26. Januar 2028. Allerdings liegt kein spanischer Ort zweimal im Kernschatten. \nVerlauf\nDie Finsternis beginnt im Atlantik bei Sonnenaufgang. Der Schattenpfad erreicht erstmals in Marokko Land. Mit dem Süden Spaniens liegt auch ein kleineres Stück Europa in der Totalitätszone. Der Mondschatten überquert die Nordküste Afrikas\, wobei Algeriens Hauptstadt Algier knapp außerhalb der Totalitätszone liegt. Das mittlere und südliche Tunesien mit seinen beliebten Touristengebieten liegt ebenfalls auf dem Weg des Mondschattens. Der Nordwesten Libyens mit der Hauptstadt Tripolis liegt knapp außerhalb der Totalitätszone\, der Osten des Landes kann sich dagegen schon einer Totalität von mehr als 6 Minuten erfreuen. In der Nähe der größten Verfinsterung liegt Mittel- und Oberägypten mit seinen Touristenzentren. Nach Überqueren des Roten Meers wird der Südwesten von Saudi-Arabien verfinstert. Der Mondschatten überquert noch den Jemen. Der restliche Verlauf der Finsternis findet dann ohne weitere Landberührung auf dem Indischen Ozean statt\, wo die Finsternis bei Sonnenuntergang endet. \nSichtbarkeit im deutschsprachigen Raum\nDie Finsternis ist im deutschsprachigen Raum als partielle Sonnenfinsternis im ganzen Verlauf sichtbar. Die größte Verfinsterung wird im Südwesten\, in Zermatt im Schweizer Kanton Wallis\, mit maximal zu 61% Bedeckung erreicht. Die geringste Verfinsterung wird im Nordosten\, in Sassnitz auf Rügen\, mit maximal zu 28% Bedeckung erreicht. \nBild: EkkehardDomning – Eigenes Werk Map design by Ekkehard Domning\, based on eclipse data by Fred Espenak (NASA/Eclipsewise)\, local eclipse circumstances by Xavier Jubier and “Natural Earth III” maps by Tom Patterson.\, CC BY-SA 4.0
URL:https://soussewetter.de/meteo/veranstaltung/totale-sonnenfinsternis-am-2-august-2027/
LOCATION:Tunesien landesweit\, Tunesien
CATEGORIES:Sonne
ATTACH;FMTTYPE=image/jpeg:https://soussewetter.de/meteo/wp-content/uploads/2025/07/800_sonnenfinsternis_2027.jpg
END:VEVENT
END:VCALENDAR