BEGIN:VCALENDAR
VERSION:2.0
PRODID:-//Soussewetter.de - ECPv6.15.20//NONSGML v1.0//EN
CALSCALE:GREGORIAN
METHOD:PUBLISH
X-WR-CALNAME:Soussewetter.de
X-ORIGINAL-URL:https://soussewetter.de/meteo
X-WR-CALDESC:Veranstaltungen für Soussewetter.de
REFRESH-INTERVAL;VALUE=DURATION:PT1H
X-Robots-Tag:noindex
X-PUBLISHED-TTL:PT1H
BEGIN:VTIMEZONE
TZID:Africa/Tunis
BEGIN:STANDARD
TZOFFSETFROM:+0100
TZOFFSETTO:+0100
TZNAME:CET
DTSTART:20260101T000000
END:STANDARD
END:VTIMEZONE
BEGIN:VEVENT
DTSTART;TZID=Africa/Tunis:20270320T212400
DTEND;TZID=Africa/Tunis:20270320T235900
DTSTAMP:20260419T133039
CREATED:20240101T110039Z
LAST-MODIFIED:20260327T140140Z
UID:2545-1805577840-1805587140@soussewetter.de
SUMMARY:Tag-und-Nachtgleiche - Frühlingsbeginn 2027
DESCRIPTION:Der Anfang der Jahreszeit Frühling\, kann vor allem astronomisch\, durch religiöse Festlegung\, meteorologisch oder phänologisch (nach dem Entwicklungsstand der Pflanzen) bestimmt werden. Astronomisch wird der Frühlingsbeginn auf der Nordhalbkugel durch die erste Tag-und-Nacht-Gleiche des Kalenderjahres\, festgelegt. Die Sonne befindet sich dann genau im Frühlingspunkt der Erdbahn. Der kalendarische Eintrittszeitpunkt variiert und fällt\, abhängig unter anderem vom Abstand zum letzten Schaltjahr und der Zeitzone\, auf den 19.\, 20. oder 21. März. \nMehr zum Thema:  finden Sie in unserem Artikel Frühlingsbeginn | Tag- und Nachtgleiche: Was hat der Frühlingsbeginn mit den Schaltjahren zu tun?
URL:https://soussewetter.de/meteo/veranstaltung/tag-und-nachtgleiche-und-fruehlingsbeginn/
LOCATION:Tunesien landesweit\, Tunesien
CATEGORIES:Jahreszeiten
ATTACH;FMTTYPE=image/jpeg:https://soussewetter.de/meteo/wp-content/uploads/2019/03/800_fruehling.jpg
END:VEVENT
BEGIN:VEVENT
DTSTART;VALUE=DATE:20270321
DTEND;VALUE=DATE:20270322
DTSTAMP:20260419T133039
CREATED:20250321T164627Z
LAST-MODIFIED:20260327T135940Z
UID:6979-1805587200-1805673599@soussewetter.de
SUMMARY:Welttag der Gletscher
DESCRIPTION:Der Welttag der Gletscher (englisch World Day for Glaciers\, französisch Journée mondiale des glaciers) ist der 21. März. Der Welttag wurde auf dem 36. UN-Water Meeting der Vereinten Nationen im Jahr 2022 beschlossen und fand erstmals im Jahr 2025 statt. \nDer Welttag der Gletscher soll auf die Bedeutung von Gletschern aufmerksam machen sowie auf die Auswirkungen des Gletscherschwunds auf Menschen und Ökosysteme. Zudem soll die Entwicklung von Anpassungsstrategien in betroffenen Gebieten und mehr grenzüberschreitende Zusammenarbeit in den Fokus rücken. Darüber hinaus wird sich anlässlich des Welttags weiterhin für die starke Reduzierung des Verbrauchs fossiler Brennstoffe eingesetzt.
URL:https://soussewetter.de/meteo/veranstaltung/welttag-der-gletscher/
LOCATION:Weltweit\, Planet Erde\, Ozeane
CATEGORIES:Meteorologie
ATTACH;FMTTYPE=image/jpeg:https://soussewetter.de/meteo/wp-content/uploads/2025/03/800_stubai-gletscher.jpg
END:VEVENT
BEGIN:VEVENT
DTSTART;VALUE=DATE:20270323
DTEND;VALUE=DATE:20270324
DTSTAMP:20260419T133039
CREATED:20250321T122634Z
LAST-MODIFIED:20260327T135858Z
UID:6976-1805760000-1805846399@soussewetter.de
SUMMARY:Welttag der Meteorologie
DESCRIPTION:Der Welttag der Meteorologie\, Internationaler Tag der Meteorologie bzw. Weltwettertag findet jährlich weltweit am 23. März statt und soll an die 1950 in Kraft getretene Konvention der Weltorganisation für Meteorologie (WMO)\, die ihren Sitz in Genf hat\, erinnern. Damals begann eine friedliche Zusammenarbeit zwischen den verschiedensten Nationen\, die ohne Beispiel war. \nMan hatte erkannt\, dass sich aus weltumspannenden aktuellen Wettermeldungen verlässlichere Wetterprognosen erstellen ließen. So konnten selbst Kriege oder andere Ideologien den Datenaustausch nicht verhindern. Selbst Krisengebiete kooperierten ohne Rücksicht auf „politische Großwetterlagen“.
URL:https://soussewetter.de/meteo/veranstaltung/welttag-der-meteorologie/
LOCATION:Weltweit\, Planet Erde\, Ozeane
CATEGORIES:Meteorologie
ATTACH;FMTTYPE=image/jpeg:https://soussewetter.de/meteo/wp-content/uploads/2025/03/800_satellit_welt.jpg
END:VEVENT
END:VCALENDAR