BEGIN:VCALENDAR
VERSION:2.0
PRODID:-//Soussewetter.de - ECPv6.15.20//NONSGML v1.0//EN
CALSCALE:GREGORIAN
METHOD:PUBLISH
X-ORIGINAL-URL:https://soussewetter.de/meteo
X-WR-CALDESC:Veranstaltungen für Soussewetter.de
REFRESH-INTERVAL;VALUE=DURATION:PT1H
X-Robots-Tag:noindex
X-PUBLISHED-TTL:PT1H
BEGIN:VTIMEZONE
TZID:Africa/Tunis
BEGIN:STANDARD
TZOFFSETFROM:+0100
TZOFFSETTO:+0100
TZNAME:CET
DTSTART:20240101T000000
END:STANDARD
END:VTIMEZONE
BEGIN:VEVENT
DTSTART;VALUE=DATE:20250228
DTEND;VALUE=DATE:20250331
DTSTAMP:20260419T202007
CREATED:20250205T201051Z
LAST-MODIFIED:20250318T133419Z
UID:6829-1740700800-1743379199@soussewetter.de
SUMMARY:Ramadan 2025 (1446) - (astronomisch) (Update)
DESCRIPTION:Der Mufti der Republik\, Scheich Hichem Ben Mahmoud\, hat am Freitagabend\, den 28. Februar\, das Datum des ersten Tages des Monats Ramadan 2025 in Tunesien bekannt gegeben. Die Mondsichel\, die den Beginn des Monats Ramadan ankündigte\, konnte in keinem der Beobachtungszentren in Tunesien beobachtet werden. Dennoch kündigte der Mufti an\, dass der Monat Ramadan begonnen hat und am Samstag\, den 1. März 2025\, der erste Fastentag sein wird. \nDer Monat Ramadan basiert auf der Sichtung der jungen Mondsichel nach dem Neumond. Den astronomischen Berechnungen zufolge würde der Ramadan 2025 bei Sichtung der jungen Mondsichel am Abend des Freitag\, den 28. Februar 2025 beginnen und am Abend des Sonntag\, den 30. März 2025 enden. Erster Fastentag wäre Samstag\, der 1. März 2025. Unabhängig von der Sichtung oder astronomischen Berechnungen ist in Tunesien das Institut „Diwan al Ifta“ mit dem Mufti der Tunesischen Republik die einzige Instanz\, die befugt ist\, den Anfang oder das Ende des Monats Ramadan festzulegen oder zu verkünden. \nDer Neumond des Ramadan 2025 (1446) tritt am Freitag\, den 28. Februar 2025 um 01.45 Uhr nachts ein. Schon am Abend des gleichen Tages ist die noch junge Mondsichel in ganz Mittelamerika\, Nord- und Westafrika bei klarem Himmel mit bloßem Auge zu sehen (grün\, violett). In den restlichen Bereichen Europas und Afrikas wäre die Sichel mit technischen Hilfsmitteln zu sehen. In Asien\, Australien und Grönland kann die Sichel noch nicht gesehen werden. \nSichtbarkeit der Mondsichel am 28. Februar 2025\nAm Samstag\, den 1. März 2025 ist die Mondsichel überall auf der Welt zu sehen. \nSichtbarkeit der Mondsichel am 1. März 2025\nDer Ramadan ist der Fastenmonat der Muslime und neunter Monat des islamischen Mondkalenders. In ihm wurde nach islamischer Auffassung der Koran herabgesandt. Das Fest des Fastenbrechens (Aid al-fitr) im unmittelbaren Anschluss an den Fastenmonat zu Beginn des Folgemonats Schawwal ist nach dem Opferfest der zweithöchste islamische Feiertag.
URL:https://soussewetter.de/meteo/veranstaltung/ramadan-2025-1446-astronomisch/
LOCATION:Tunesien landesweit\, Tunesien
CATEGORIES:Kalenderfeste
ATTACH;FMTTYPE=image/jpeg:https://soussewetter.de/meteo/wp-content/uploads/2023/02/800_mondsichel-ramadan.jpg
END:VEVENT
BEGIN:VEVENT
DTSTART;TZID=Africa/Tunis:20250314T072600
DTEND;TZID=Africa/Tunis:20250314T083100
DTSTAMP:20260419T202007
CREATED:20250309T141323Z
LAST-MODIFIED:20250309T141323Z
UID:6938-1741937160-1741941060@soussewetter.de
SUMMARY:Totale Mondfinsternis vom 14 März 2025
DESCRIPTION:Am 14. März 2025 wird eine totale Mondfinsternis stattfinden\, die zwar in mehreren Regionen der Welt zu sehen sein wird\, in Tunesien allerdings nur in den frühen Morgenstunden in ihrer ersten Hälfte beobachtet werden kann. Dieses astronomische Spektakel\, bei dem der Mond in den Schatten der Erde getaucht wird\, fällt mit dem Ende der ersten Hälfte des heiligen Monats Ramadan 1446 zusammen. \nSichtbarkeit\nDie totale Phase wird am 14 März 2025 vor allem in Südamerika\, im Atlantischen Ozean und in Teilen Afrikas zu sehen sein. In Europa\, Nordafrika und dem Nahen Osten werden hingegen nur die ersten Phasen vor Monduntergang zu sehen sein. \nIn Tunesien wird die Mondfinsternis nur in den ersten Phasen vor Monduntergang zu sehen sein. Obwohl die Totalität nicht sichtbar sein wird\, können  die ersten Phasen in der Morgendämmerung beobachtet werden: \n\nSchauen Sie vor Sonnenaufgang nach Westen\, um den Eintritt des Mondes in den Erdschatten zu sehen;\nVerwenden Sie ein Fernglas oder ein Teleskop\, um die allmählichen Farbveränderungen besser erkennen zu können;\n\nVerfolgen Sie Live-Übertragungen aus Ländern\, in denen die Sonnenfinsternis vollständig zu sehen ist. \nEine Mondfinsternis tritt ein\, wenn sich der Mond in Bezug auf die Erde auf der gegenüberliegenden Seite der Sonne befindet. Zu diesem Zeitpunkt wirft die Erde einen Schatten auf den Mond\, sodass die Sonnenstrahlen nicht mehr auf den Mond treffen können. Der Mond wird dann nur von der indirekten Sonnenstrahlung beleuchtet und färbt sich orange und kupferfarben oder sogar bläulich. \nTitelbild: Symbolfoto
URL:https://soussewetter.de/meteo/veranstaltung/totale-mondfinsternis-vom-14-maerz-2025/
LOCATION:Tunesien landesweit\, Tunesien
CATEGORIES:Mond
ATTACH;FMTTYPE=image/jpeg:https://soussewetter.de/meteo/wp-content/uploads/2018/07/blutmond_800-1.jpg
END:VEVENT
BEGIN:VEVENT
DTSTART;TZID=Africa/Tunis:20250329T095000
DTEND;TZID=Africa/Tunis:20250329T134300
DTSTAMP:20260419T202007
CREATED:20250317T133948Z
LAST-MODIFIED:20250317T133948Z
UID:6967-1743241800-1743255780@soussewetter.de
SUMMARY:Partielle Sonnenfinsternis am 29. März 2025 - Sichtbarkeit in Tunesien
DESCRIPTION:Am Samstag\, den 29. März 2025\, wird eine partielle Sonnenfinsternis stattfinden wird\, die mit dem 29. Ramadan 1446 zusammenfällt. In Tunesien wird die Sonnenfinsternis sehr unauffällig und für das bloße Auge fast nicht wahrnehmbar sein. Dieses Phänomen wird in mehreren Regionen der nördlichen Hemisphäre zu beobachten sein\, insbesondere in Nordafrika\, Nordamerika\, Europa und Nordasien. \nWarnhinweis: Niemals direkt und ohne geeigneten Filter in die Sonne schauen! Sie riskieren schwere Augenschäden bis hin zur Erblindung. Verwenden Sie immer einen zertifizierten Sonnenfilter vor dem Objektiv von Kamera oder Teleskop\, bzw. verwenden Sie eine zertifizierte Sonnensichtbrille\, wenn Sie mit dem bloßen Auge beobachten. \nIn Tunesien wird die Sonnenfinsternis sehr unauffällig und für das bloße Auge fast nicht wahrnehmbar sein. Ihr Höhepunkt wird um 11:58 Uhr erwartet. Astronomisch gesehen entspricht diese Finsternis der zentralen Konjunktion zwischen Erde\, Mond und Sonne (Neumond) und markiert somit die Entstehung der Mondsichel\, die das Eid El-Fitr ankündigt. \nHier sind die Details der Sonnenfinsternis in einigen tunesischen Städten: \n\nTabarka: Verdunklungsrate 4\,56 % – Verdunkelung 1\,2 % – sichtbar von 11:26 bis 12:11 Uhr\nBizerte: Verdunklungsrate 3\,47 Prozent – 0\,8 Prozent Verdunkelung – von 11:31 bis 12:11 Uhr sichtbar\nLe Kef: Verdunklungsrate 3\,21 % – 0\,7 % Verdunkelung – von 11:28 bis 12:06 Uhr\nTunis (Hauptstadt): Verdunklungsrate 1\,71 % – 0\,3 % Verdunkelung – von 11:36 bis 12:04 Uhr\nKasserine: Verdunklungsrate 1\,34 % – 0\,2 % Verdunkelung – von 11:33 bis 11:57 Uhr\n\nLaut des Nationalen Meteorologischen Instituts (INM) sind die wichtigsten Phasen der Finsternis wie folgt: \n\nBeginn der partiellen Sonnenfinsternis: Das Phänomen wird über dem Atlantischen Ozean vor der südamerikanischen Küste beginnen.\nHöhepunkt: Die Finsternis wird ihren Höhepunkt in den nördlichen Regionen Kanadas erreichen.\nEnde der Finsternis: Die Finsternis wird im äußersten Norden Russlands enden.\n\nObwohl die Finsternis nur partiell ist\, wird sie mit einem maximalen Bedeckungsgrad von 94 Prozent der Sonnenscheibe beeindruckend sein\, wenn der Mond die Sonne auf dem Höhepunkt des Phänomens fast vollständig verdeckt. \nGrafik (Ausschnitt) Sonnenfinsternis vom 29. März 2025: Von Ekkehard Domning – Eigenes Werk Map design by Ekkehard Domning\, based on eclipse data by Fred Espenak (NASA/Eclipsewise)\, local eclipse circumstances by Xavier Jubier and “Natural Earth III” maps by Tom Patterson\, CC BY-SA 4.0
URL:https://soussewetter.de/meteo/veranstaltung/partielle-sonnenfinsternis-am-29-maerz-2025-sichtbarkeit-in-tunesien/
LOCATION:Tunesien landesweit\, Tunesien
CATEGORIES:Sonne
ATTACH;FMTTYPE=image/jpeg:https://soussewetter.de/meteo/wp-content/uploads/2025/03/800_sonnenfinsternis_29032025.jpg
END:VEVENT
END:VCALENDAR