BEGIN:VCALENDAR
VERSION:2.0
PRODID:-//Soussewetter.de - ECPv6.15.20//NONSGML v1.0//EN
CALSCALE:GREGORIAN
METHOD:PUBLISH
X-WR-CALNAME:Soussewetter.de
X-ORIGINAL-URL:https://soussewetter.de/meteo
X-WR-CALDESC:Veranstaltungen für Soussewetter.de
REFRESH-INTERVAL;VALUE=DURATION:PT1H
X-Robots-Tag:noindex
X-PUBLISHED-TTL:PT1H
BEGIN:VTIMEZONE
TZID:Africa/Tunis
BEGIN:STANDARD
TZOFFSETFROM:+0100
TZOFFSETTO:+0100
TZNAME:CET
DTSTART:20230101T000000
END:STANDARD
END:VTIMEZONE
BEGIN:VEVENT
DTSTART;VALUE=DATE:20241011
DTEND;VALUE=DATE:20241015
DTSTAMP:20260422T111841
CREATED:20241001T142503Z
LAST-MODIFIED:20241001T142844Z
UID:6518-1728604800-1728950399@soussewetter.de
SUMMARY:Komet C/2023 A3 (Tsuchinshan-ATLAS) Vorbeiflug
DESCRIPTION:C/2023 A3 (Tsuchinshan-ATLAS) ist ein Komet\, der im Oktober 2024 von der Nordhalbkugel mit dem bloßen Auge beobachtet werden kann. Tsuchinshan-Atlas\, der 2023 entdeckt wurde\, ist schon am vergangenen Sonntag von Tunesien aus gesichtet worden. Er ist vom 11. bis 14. Oktober der Erde besonders nahe und wird am frühen Abend wieder an unserem Himmel auftauchen. Danach wird der Komet schnell verblassen und bis Mitte November nur noch mit optischen Geräten zu beobachten sein.\n \n„Auf seiner üblichen Umlaufbahn kommt Tsuchinshan-ATLAS den neuesten Berechnungen zufolge einmal in 83 Millionen Jahren in die Nähe der Erde\, und zwar in Form einer Ellipse. Allerdings stellte sich jetzt heraus\, dass sein jüngster Vorbeiflug an den Planeten Merkur und Venus seine Bahn verändert hat. So wird der Komet seine Reise an den Rand des Universums fortsetzen\, ohne jemals zurückzukehren“\, erklärte er. \n„Ein Komet ist ein Himmelskörper\, der aus einem Kern besteht\, einer Mischung aus Eis und Staub. Wenn er sich der Sonne nähert\, führt die Hitze dazu\, dass das Eis zu Gas sublimiert\, wodurch eine Spur aus Staub und Gas entsteht\, die den Schweif bildet\, der immer von der Sonne weg zeigt“. \nMehr zum Kometen bei Wikipedia \nBild (Ausschnitt): Juan lacruz – Eigenes Werk\, CC BY 4.0 \n 
URL:https://soussewetter.de/meteo/veranstaltung/komet-c2023a3-tsuchinshan-atlas/
LOCATION:Tunesien landesweit\, Tunesien
CATEGORIES:Kometen
ATTACH;FMTTYPE=image/jpeg:https://soussewetter.de/meteo/wp-content/uploads/2024/10/800_komet_C2023_A3.jpg
END:VEVENT
BEGIN:VEVENT
DTSTART;TZID=Africa/Tunis:20241017T122600
DTEND;TZID=Africa/Tunis:20241018T055800
DTSTAMP:20260422T111841
CREATED:20240720T223742Z
LAST-MODIFIED:20240720T223742Z
UID:6309-1729167960-1729231080@soussewetter.de
SUMMARY:Supermond im Oktober 2024
DESCRIPTION:Supermond ist ein 1979 vom Astrologen Richard Nolle geprägter\, aber nicht wissenschaftlich anerkannter\, Ausdruck für einen Vollmond oder Neumond\, der sich im oder nahe beim erdnächsten Punkt (Perigäum) seiner Erdumlaufbahn und höchstens 360.000 Kilometer vom Erdmittelpunkt entfernt ist. Der Supermond im Oktober 2024 tritt in Tunesien am Donnerstag\, den 17. Oktober 2024 ab 12.26 Uhr ein. Es ist der größte und hellste Supermond des Jahres\, da er 7\,9% größer und 15\,7% heller als ein durchschnittlicher Vollmond erscheint.\n \nAufgrund dieser relativ geringen Entfernung erscheint ein Supermond am Nachthimmel knapp 7% größer als ein durchschnittlicher Mond. Die Mondoberfläche ist dabei nicht heller wie bei einem normalen Vollmond\, durch die größere sichtbare Mondoberfläche wird allerdings mehr Sonnenlicht an den Betrachter weitergeleitet. \nDefiniert wird der Supermond durch die Entfernung zur Erde. Ein Vollmond ist dabei höchstens 360 000 Kilometer vom Erdmittelpunkt entfernt. Bei einer großen Entfernung spricht man von einem Minimond\, der mehr als 405 000 Kilometer vom Erdmittelpunkt entfernt ist. \nTitelbild Supermond Größenvergleich: Links ein durchschnittlicher Vollmond\, rechts in Erdnähe: Von Marcoaliaslama – Eigenes Werk\, CC BY-SA 3.0\, Link
URL:https://soussewetter.de/meteo/veranstaltung/supermond-im-oktober-2024/
LOCATION:Tunesien landesweit\, Tunesien
CATEGORIES:Mond
ATTACH;FMTTYPE=image/jpeg:https://soussewetter.de/meteo/wp-content/uploads/2019/12/800_supermond.jpg
END:VEVENT
END:VCALENDAR