BEGIN:VCALENDAR
VERSION:2.0
PRODID:-//Soussewetter.de - ECPv6.15.20//NONSGML v1.0//EN
CALSCALE:GREGORIAN
METHOD:PUBLISH
X-WR-CALNAME:Soussewetter.de
X-ORIGINAL-URL:https://soussewetter.de/meteo
X-WR-CALDESC:Veranstaltungen für Soussewetter.de
REFRESH-INTERVAL;VALUE=DURATION:PT1H
X-Robots-Tag:noindex
X-PUBLISHED-TTL:PT1H
BEGIN:VTIMEZONE
TZID:Africa/Tunis
BEGIN:STANDARD
TZOFFSETFROM:+0100
TZOFFSETTO:+0100
TZNAME:CET
DTSTART:20230101T000000
END:STANDARD
END:VTIMEZONE
BEGIN:VEVENT
DTSTART;VALUE=DATE:20240311
DTEND;VALUE=DATE:20240410
DTSTAMP:20260424T172827
CREATED:20240101T150840Z
LAST-MODIFIED:20240310T124722Z
UID:5709-1710115200-1712707199@soussewetter.de
SUMMARY:Ramadan 2024 (1445) - (astronomisch)
DESCRIPTION:Der Monat Ramadan basiert auf der Sichtung der jungen Mondsichel nach dem Neumond. Am 10. März nach Sonnenuntergang ist die noch junge Mondsichel in ganz Europa\, Afrika und Asien nicht zu sehen. Den astronomischen Berechnungen zufolge würde der Ramadan 2024 am Abend des Montag\, den 11. März 2024 beginnen und am Dienstag\, den 9. April 2024 enden. Erster Fastentag wäre Dienstag\, der 12. März 2024. Unabhängig von der Sichtung oder astronomischen Berechnungen ist in Tunesien das Institut „Diwan al Ifta“ mit dem Mufti der Tunesischen Republik die einzige Instanz\, die befugt ist\, den Anfang oder das Ende des Monats Ramadan festzulegen oder zu verkünden. \nDer Neumond tritt am Sonntag\, den 10. März 2024 um 10.00 Uhr vormittags ein. Am 10. März nach Sonnenuntergang ist die noch junge Mondsichel in ganz Europa\, Afrika und Asien nicht zu sehen. Lediglich in Teilen Nord- und Südamerikas wäre die Sichel mit technischen Hilfsmitteln zu sehen. \nSichtbarkeit der Mondsichel am 10. März 2024\nAm Montag\, den 11. März 2024 wäre die Mondsichel fast überall auf der Welt zu sehen. \nRamadan 2024 (1445) – (astronomisch) – Sichtbarkeit der Mondsichel am 11. März 2024\nDer Ramadan ist der Fastenmonat der Muslime und neunter Monat des islamischen Mondkalenders. In ihm wurde nach islamischer Auffassung der Koran herabgesandt. Das Fest des Fastenbrechens (Aid al-fitr) im unmittelbaren Anschluss an den Fastenmonat zu Beginn des Folgemonats Schawwal ist nach dem Opferfest der zweithöchste islamische Feiertag.
URL:https://soussewetter.de/meteo/veranstaltung/ramadan-2024-1445/
LOCATION:Tunesien landesweit\, Tunesien
CATEGORIES:Kalenderfeste
ATTACH;FMTTYPE=image/jpeg:https://soussewetter.de/meteo/wp-content/uploads/2023/02/800_mondsichel-ramadan.jpg
END:VEVENT
BEGIN:VEVENT
DTSTART;VALUE=DATE:20240409
DTEND;VALUE=DATE:20240411
DTSTAMP:20260424T172827
CREATED:20240329T173800Z
LAST-MODIFIED:20240329T173800Z
UID:5979-1712620800-1712793599@soussewetter.de
SUMMARY:Aïd al-Fitr 2024 (1445): Fest des Fastenbrechens - (astronomisch)
DESCRIPTION:Das Ende des Monats Ramadan basiert auf der Sichtung der jungen Mondsichel nach dem Neumond. Am 8. April nach Sonnenuntergang ist die noch junge Mondsichel weltweit nicht zu sehen. Erst am Abend des Dienstag\, den 9. April 2024 wäre die Mondsichel mit bloßem Auge in weiten Teilen Nord- und Südamerikas\, Afrikas und Europa zu sehen. Den astronomischen Berechnungen zufolge würde der Ramadan 2024 am Abend des Dienstag\, den 9. April 2024 enden. Aïd al-Fitr wäre dann Mittwoch\, der 10. April 2024. Unabhängig von der Sichtung oder astronomischen Berechnungen ist in Tunesien das Institut „Diwan al Ifta“ mit dem Mufti der Tunesischen Republik die einzige Instanz\, die befugt ist\, den Anfang oder das Ende des Monats Ramadan festzulegen bzw. zu verkünden. \nDer Neumond tritt am Montag\, den 8. April 2024 um 9.21 Uhr vormittags ein. Am Abend des 8. April nach Sonnenuntergang ist die noch junge Mondsichel weltweit nicht zu sehen. \nSichtbarkeit der Mondsichel am Abend des 8. April 2024\nAm Abend des Dienstag\, den 9. April 2024 wäre die Mondsichel mit bloßem Auge in weiten Teilen Nord- und Südamerikas\, Afrikas und Europa zu sehen\, in anderen Teilen der Welt mit technischen Hilfsmitteln. \nSichtbarkeit der Mondsichel am Abend des 9. April 2024\nFür die islamischen Länder\, die den Monat Ramadan am 11. März 2024 begonnen haben\, wird der Tag der Beobachtung der Chawwal-Mondsichel\, der dem 29. Ramadan 1445 entspricht\, Montag\, der 8. April 2024\, sein. Da die Mondsichel an diesem Tag aufgrund des Monduntergangs vor der Sonne und der Konjunktion nach Sonnenuntergang nicht beobachtet werden kann\, wird Dienstag\, der 9. April 2024\, der letzte Tag von Ramadan 1445 sein\, und somit wird Mittwoch\, der 10. April 2024\, dem ersten Tag von Chawwal 1445 entsprechen. \nFür die Länder\, die die Mondsichel am Dienstag\, dem 9. April 2024\, beobachten\, wird es möglich sein\, sie mit einem Teleskop oder mit bloßem Auge in den meisten asiatischen Ländern\, den meisten Ländern südlich der Sahara und leicht mit bloßem Auge in den Ländern Nordafrikas\, der arabischen Halbinsel\, den meisten europäischen Ländern und auf dem amerikanischen Kontinent zu beobachten. Somit wird Mittwoch\, der 10. April 2024\, dem ersten Tag von Chawwal 1445 entsprechen. \nDer Ramadan ist der Fastenmonat der Muslime und neunter Monat des islamischen Mondkalenders. In ihm wurde nach islamischer Auffassung der Koran herabgesandt. Das Fest des Fastenbrechens (Aid al-fitr) im unmittelbaren Anschluss an den Fastenmonat zu Beginn des Folgemonats Schawwal ist nach dem Opferfest der zweithöchste islamische Feiertag.
URL:https://soussewetter.de/meteo/veranstaltung/aid-al-fitr-2024-1445-fest-des-fastenbrechens-astronomisch/
LOCATION:Tunesien landesweit\, Tunesien
CATEGORIES:Kalenderfeste
ATTACH;FMTTYPE=image/jpeg:https://soussewetter.de/meteo/wp-content/uploads/2023/02/800_mondsichel-ramadan.jpg
END:VEVENT
BEGIN:VEVENT
DTSTART;TZID=Africa/Tunis:20240421T180000
DTEND;TZID=Africa/Tunis:20240422T050000
DTSTAMP:20260424T172827
CREATED:20240106T204550Z
LAST-MODIFIED:20240118T150726Z
UID:5737-1713722400-1713762000@soussewetter.de
SUMMARY:Komet 12P/Pons–Brooks voraussichtlich mit bloßem Auge sichtbar
DESCRIPTION:12P/Pons–Brooks ist periodischer Komet mit einer Umlaufzeit von 71 Jahren. Er erfüllt die klassische Definition eines Kometen vom Halley-Typ (d. h. 20 Jahre < Umlaufzeit < 200 Jahre) und ist mit einer absoluten Helligkeit von zirka 5 mag bei Erreichen des Perihels einer der hellsten bekannten periodischen Kometen. \nDer Komet Pons-Brooks wurde im Juli 1812 von Jean-Louis Pons am Marseille Observatorium entdeckt und dann später 1883 von William Robert Brooks wiederentdeckt. \nDer nächste Periheldurchgang findet am 21. April 2024 (Sternbild Stier) statt\, der Komet nähert sich der Erde am 2. Juni 2024 bis auf 1\,5 AE. Es wird eine scheinbare Helligkeit von 4\,5 mag erwartet. Der Kometenkern wird unter der Annahme\, dass es bei der photometrischen Untersuchung 2020 nicht zu größeren Staub- oder Gasausbrüchen kam\, auf ungefähr 30 km geschätzt. \nBild: Von Juan lacruz – Eigenes Werk\, CC BY-SA 4.0
URL:https://soussewetter.de/meteo/veranstaltung/komet-12p-pons-brooks-voraussichtlich-mit-blossem-auge-sichtbar/
LOCATION:Tunesien landesweit\, Tunesien
CATEGORIES:Kometen
ATTACH;FMTTYPE=image/jpeg:https://soussewetter.de/meteo/wp-content/uploads/2024/01/800_12p_pons-brooks.jpg
END:VEVENT
END:VCALENDAR