BEGIN:VCALENDAR
VERSION:2.0
PRODID:-//Soussewetter.de - ECPv6.15.20//NONSGML v1.0//EN
CALSCALE:GREGORIAN
METHOD:PUBLISH
X-WR-CALNAME:Soussewetter.de
X-ORIGINAL-URL:https://soussewetter.de/meteo
X-WR-CALDESC:Veranstaltungen für Soussewetter.de
REFRESH-INTERVAL;VALUE=DURATION:PT1H
X-Robots-Tag:noindex
X-PUBLISHED-TTL:PT1H
BEGIN:VTIMEZONE
TZID:Africa/Tunis
BEGIN:STANDARD
TZOFFSETFROM:+0100
TZOFFSETTO:+0100
TZNAME:CET
DTSTART:20210101T000000
END:STANDARD
END:VTIMEZONE
BEGIN:VEVENT
DTSTART;TZID=Africa/Tunis:20220713T195200
DTEND;TZID=Africa/Tunis:20220714T041800
DTSTAMP:20260426T045401
CREATED:20220614T103251Z
LAST-MODIFIED:20220713T133624Z
UID:4408-1657741920-1657772280@soussewetter.de
SUMMARY:Supermond im Juli 2022
DESCRIPTION:Supermond ist ein 1979 vom Astrologen Richard Nolle geprägter\, aber nicht wissenschaftlich anerkannter\, Ausdruck für einen Vollmond oder Neumond\, der sich im oder nahe beim erdnächsten Punkt (Perigäum) seiner Erdumlaufbahn und höchstens 360.000 Kilometer vom Erdmittelpunkt entfernt ist. Der Supermond Juli 2022 ist in Tunesien am Mittwoch\, den 13. Juli 2022 zu beobachten. Dabei hat der Mond eine Entfernung von 357.264 km zur Erde. Der Mond geht in Tunesien um 19.52 Uhr auf. (Daten des Supermondes basieren auf der Ortszeit Tunis) \nAufgrund dieser relativ geringen Entfernung erscheint ein Supermond am Nachthimmel knapp 7% größer als ein durchschnittlicher Mond. Die Mondoberfläche ist dabei nicht heller wie bei einem normalen Vollmond\, durch die größere sichtbare Mondoberfläche wird allerdings mehr Sonnenlicht an den Betrachter weitergeleitet. \nTitelbild Supermond Größenvergleich: Links ein durchschnittlicher Vollmond\, rechts in Erdnähe: Von Marcoaliaslama – Eigenes Werk\, CC BY-SA 3.0\, Link
URL:https://soussewetter.de/meteo/veranstaltung/supermond-im-juli-2022/
LOCATION:Tunesien landesweit\, Tunesien
CATEGORIES:Mond
ATTACH;FMTTYPE=image/jpeg:https://soussewetter.de/meteo/wp-content/uploads/2019/12/800_supermond.jpg
END:VEVENT
BEGIN:VEVENT
DTSTART;TZID=Africa/Tunis:20220714T210000
DTEND;TZID=Africa/Tunis:20220731T030000
DTSTAMP:20260426T045401
CREATED:20220716T134029Z
LAST-MODIFIED:20220716T134303Z
UID:4506-1657832400-1659236400@soussewetter.de
SUMMARY:Komet "K2" von der Erde aus sichtbar
DESCRIPTION:Der Komet “K2” tritt in die inneren Bereiche unseres Sonnensystems ein und wird unter guten Bedingungen auch von der Erde aus zu beobachten sein. Der Komet ist im Südhimmel zu beobachten. \nGefunden wurde er von As­tro­no­men bereits\, als er noch weit entfernt von uns war. C/2017 K2 wurde von einem Team um Richard J. Wainscoat auf Aufnahmen entdeckt\, die am 21. Mai 2017 im Rahmen des Pan-STARRS-Programms mit dem 1\,8-m-Teleskop PS1 auf dem Haleakalā (Hawaii) gemacht worden waren. \nDie größte Nähe zur Erde hat der Komet am 14. Juli 2022 mit rund 1\,8 Astronomischen Einheiten (AE) erreicht. Eine Astronomische Einheit misst 149.597.870.700 Meter (149.597.870\,7 Kilometer). Am 14. Februar 2023 nähert sich der Komet nochmals auf rund 2\,2 AE. \nAufgrund des Vollmondes war der Komet aktuell nur mit Hilfsmitteln\, wie einem Teleskop auffindbar. Allerdings zieht der Komet\, der einen geschätzten Durchmesser von 18 Kilometern hat\, einen Schweif von rund 800.000 km Länge aus gefrorenem Kohlenstoffdioxid\, Kohlenstoffmonoxid\, Sauerstoff oder Stickstoff hinter sich her\, der auch noch in den nächsten Wochen zu beobachten ist. \nZu finden ist er nach Einbruch der Dunkelheit im Südhimmel. Ab etwa Mitte September befindet er sich nur noch knapp über dem Horizont und ist nur noch schwer beobachtbar. Hilfe beim Finden und der Beobachtung anderer Objekte können Astronomie-Apps bieten.
URL:https://soussewetter.de/meteo/veranstaltung/komet-k2-von-der-erde-aus-sichtbar/
LOCATION:Südhimmel
CATEGORIES:Kometen
ATTACH;FMTTYPE=image/jpeg:https://soussewetter.de/meteo/wp-content/uploads/2022/07/800_komet-k2.jpg
END:VEVENT
END:VCALENDAR