BEGIN:VCALENDAR
VERSION:2.0
PRODID:-//Soussewetter.de - ECPv6.15.20//NONSGML v1.0//EN
CALSCALE:GREGORIAN
METHOD:PUBLISH
X-WR-CALNAME:Soussewetter.de
X-ORIGINAL-URL:https://soussewetter.de/meteo
X-WR-CALDESC:Veranstaltungen für Soussewetter.de
REFRESH-INTERVAL;VALUE=DURATION:PT1H
X-Robots-Tag:noindex
X-PUBLISHED-TTL:PT1H
BEGIN:VTIMEZONE
TZID:Africa/Tunis
BEGIN:STANDARD
TZOFFSETFROM:+0100
TZOFFSETTO:+0100
TZNAME:CET
DTSTART:20220101T000000
END:STANDARD
END:VTIMEZONE
BEGIN:VEVENT
DTSTART;TZID=Africa/Tunis:20231028T190100
DTEND;TZID=Africa/Tunis:20231028T215300
DTSTAMP:20260425T052039
CREATED:20231018T201748Z
LAST-MODIFIED:20231027T112249Z
UID:5490-1698519660-1698529980@soussewetter.de
SUMMARY:Partielle Mondfinsternis am 28. Oktober 2023
DESCRIPTION:Am Abend des Samstag\, den 28. Oktober 2023 findet eine partielle Mondfinsternis statt\, die überall auf der Nachtseite der Erde sichtbar sein wird (Afrika\, Ozeanien\, Nord- und Südamerika\, Asien und Europa). Die Bedeckung des Mondes durch den Erdschatten beginnt um 19:01 Uhr\, das Maximum der Finsternis wird um 21.15 Uhr tunesischer Ortszeit (22.15 Uhr MESZ) erreicht. Kurzlink: https://www.kashba.de/1a \nDamit es zu einer Mondfinsternis kommen kann\, muss die Erde zwischen Sonne und Mond stehen. Der Schatten der Erde fällt auf den Mond und der Mond ist verfinstert. Wandert der Mond nicht komplett durch den Erdschatten\, spricht man von einer partiellen Mondfinsternis\, nur ein Teil des Mondes verdunkelt sich. Zu einer Rotfärbung des Mondes (Blutmond) kommt es bei einer partiellen Mondfinsternis nicht. \nTitelbild: Symbolfoto SoulRiser – CC BY-SA 2.0\, Link
URL:https://soussewetter.de/meteo/veranstaltung/partielle-mondfinsternis/
LOCATION:Tunesien landesweit\, Tunesien
CATEGORIES:Mond
ATTACH;FMTTYPE=image/jpeg:https://soussewetter.de/meteo/wp-content/uploads/2019/07/800_mondfinsternis_partiell.jpg
END:VEVENT
END:VCALENDAR