BEGIN:VCALENDAR
VERSION:2.0
PRODID:-//Soussewetter.de - ECPv6.15.20//NONSGML v1.0//EN
CALSCALE:GREGORIAN
METHOD:PUBLISH
X-WR-CALNAME:Soussewetter.de
X-ORIGINAL-URL:https://soussewetter.de/meteo
X-WR-CALDESC:Veranstaltungen für Soussewetter.de
REFRESH-INTERVAL;VALUE=DURATION:PT1H
X-Robots-Tag:noindex
X-PUBLISHED-TTL:PT1H
BEGIN:VTIMEZONE
TZID:Africa/Tunis
BEGIN:STANDARD
TZOFFSETFROM:+0100
TZOFFSETTO:+0100
TZNAME:CET
DTSTART:20210101T000000
END:STANDARD
END:VTIMEZONE
BEGIN:VEVENT
DTSTART;TZID=Africa/Tunis:20221025T104100
DTEND;TZID=Africa/Tunis:20221025T120800
DTSTAMP:20260426T013547
CREATED:20220208T162107Z
LAST-MODIFIED:20231022T125419Z
UID:4279-1666694460-1666699680@soussewetter.de
SUMMARY:Partielle Sonnenfinsternis vom 25 Okt 2022
DESCRIPTION:Bei der Sonnenfinsternis von Dienstag\, den 25 Okt 2022\, handelt es sich um eine rein partielle Finsternis\, die Erde wird also nur vom Halbschatten des Mondes getroffen. Die Finsternis beginnt nahe bei Island\, der Halbschatten wandert anschließend südostwärts\, wobei in fast ganz Europa eine verfinsterte Sonne zu sehen sein wird. Nordafrika wird gerade so eben auch noch vom Halbschatten des Mondes erreicht. In Tunesien kann die Finsternis ab 10:41 Uhr beobachtet werden. Das Maximum der Finsternis wird um 11.24 Uhr und das Ende um 12.08 Uhr erreicht sein. \nIim Norden begrenzt die Tag-Nacht-Grenze der beginnenden Polarnacht das Sichtbarkeitsgebiet. Der Halbschatten wandert im Verlauf der Finsternis bis in den westlichen Teil Asiens und erreicht gerade noch Indien. Die maximale Bedeckung ist im auch als Jugra bezeichneten Autonomen Kreis der Chanten und Mansen östlich des Ural im Westsibirischen Tiefland zu sehen\, dort werden etwas mehr als 82 % der Sonne vom Mond bedeckt sein. \nSichtbarkeit im deutschsprachigen Raum\nNach der nur 16 Monate zurückliegenden Sonnenfinsternis vom 10. Juni 2021 kann wieder eine Sonnenfinsternis im deutschsprachigen Raum beobachtet werden. Die Bedeckung ist allerdings nur mäßig. Die größte Verfinsterung wird im Nordosten\, in Sassnitz auf der Insel Rügen\, mit maximal 35\,3 % Bedeckung erreicht. Die geringste Verfinsterung wird im Südwesten\, im schweizerischen Zermatt\, mit maximal 15\,7 % Bedeckung erreicht. Die nächstfolgende\, im deutschsprachigen Raum sichtbare Sonnenfinsternis ist die Sonnenfinsternis vom 29. März 2025. \nGrafik (Ausschnitt) Sonnenfinsternis vom 25 Okt 2022: Ekkehard Domning – Eigenes Werk Map design by Ekkehard Domning\, based on eclipse data by Fred Espenak (NASA/Eclipsewise)\, local eclipse circumstances by Xavier Jubier and “Natural Earth III” maps by Tom Patterson\, CC BY-SA 4.0
URL:https://soussewetter.de/meteo/veranstaltung/partielle-sonnenfinsternis-vom-25-okt-2022/
LOCATION:Tunesien landesweit\, Tunesien
CATEGORIES:Sonne
ATTACH;FMTTYPE=image/jpeg:https://soussewetter.de/meteo/wp-content/uploads/2022/02/800_sonnenfinsternis_25102022.jpg
END:VEVENT
END:VCALENDAR